BEGIN:VCALENDAR
VERSION:2.0
PRODID:-//wp-events-plugin.com//6.6.3//EN
TZID:Europe/Madrid
X-WR-TIMEZONE:Europe/Madrid
BEGIN:VEVENT
UID:133@baena.es
DTSTART;TZID=Europe/Madrid:20260314T170000
DTEND;TZID=Europe/Madrid:20260314T170000
DTSTAMP:20260302T130810Z
URL:https://www.baena.es/eventos/xxiv-meeting-cross-baena-ciudad-del-oliva
 r-y-el-aceite/
SUMMARY:XXIV MEETING-CROSS BAENA: CIUDAD DEL OLIVAR Y EL ACEITE
DESCRIPTION:El Ayuntamiento de Baena\, a través de su Delegación Municipa
 l de Deportes\, organiza el XXIV Meeting-Cross Baena Ciudad del Olivar y e
 l Aceite\, prueba incluida en el Circuito Cordobés de Carreras Populares 
 2026 y en el Calendario Andaluz de la Federación Andaluza de Atletismo de
 l año 2026. La carrera se disputará el sábado 14 de marzo de 2026\, te
 niendo su salida en la pista de atletismo de la Ciudad Deportiva Juan Carl
 os I de la localidad de Baena. Las distintas carreras por categorías\, da
 rán comienzo a las 17:00 horas y las personas interesadas podrán inscrib
 irse hasta el 12 de marzo o hasta completar aforo.\n\n \n\nConsulta el Re
 glamento: archivo.\n\nLos atletas locales de Baena deberán inscribirse
  de manera gratuita a través de dos vías:\n\n– Inscripción individual
 : a través de este formulario online\n\n– Inscripción grupal: el respo
 nsable del grupo o club deberá descargar y cumplimentar el Modelo de Insc
 ripción Grupal (en formato excel) con todos los datos requeridos\, y remi
 tirlo antes del plazo límite al correo deportes@ayto-baena.es\n\nDescarg
 ar el Modelo de Inscripción Grupal: archivo.\n\n \n\nLas personas no e
 mpadronadas en Baena podrán inscribirse a través de la Plataforma: htt
 ps://web.faalive.com/inscriptions/192\n\nPara cualquier consulta\, contact
 en al teléfono: 957 670 845
ATTACH;FMTTYPE=image/jpeg:https://www.baena.es/wp-content/uploads/2026/03/
 CARTEL-MEETING-CROSS-2026.jpg
CATEGORIES:Deportes
END:VEVENT
BEGIN:VTIMEZONE
TZID:Europe/Madrid
X-LIC-LOCATION:Europe/Madrid
BEGIN:STANDARD
DTSTART:20251026T020000
TZOFFSETFROM:+0200
TZOFFSETTO:+0100
TZNAME:CET
END:STANDARD
END:VTIMEZONE
END:VCALENDAR