BEGIN:VCALENDAR
VERSION:2.0
PRODID:-//wp-events-plugin.com//6.6.3//EN
TZID:Europe/Madrid
X-WR-TIMEZONE:Europe/Madrid
BEGIN:VEVENT
UID:51@baena.es
DTSTART;TZID=Europe/Madrid;VALUE=DATE:20240705
DTEND;TZID=Europe/Madrid;VALUE=DATE:20240707
DTSTAMP:20240417T122547Z
URL:https://www.baena.es/eventos/teatro-escuela-municipal-de-teatro-2/
SUMMARY:TEATRO. Escuela Municipal de Teatro
DESCRIPTION:Escuela Municipal de Teatro\n&nbsp\;\n\nVIERNES (5) Y SÁBADO (
 6) -&gt\; 21:00\n\n&nbsp\;\nLUGAR DEL EVENTO \n↓\n
CATEGORIES:Cultura
END:VEVENT
BEGIN:VTIMEZONE
TZID:Europe/Madrid
X-LIC-LOCATION:Europe/Madrid
BEGIN:DAYLIGHT
DTSTART:20240331T030000
TZOFFSETFROM:+0100
TZOFFSETTO:+0200
TZNAME:CEST
END:DAYLIGHT
END:VTIMEZONE
END:VCALENDAR